BEGIN:VCALENDAR
PRODID:-//eluceo/ical//2.0/EN
VERSION:2.0
CALSCALE:GREGORIAN
BEGIN:VEVENT
UID:5b5b64db20cd740d2d680792e38b205b
DTSTAMP:20260420T043956Z
SUMMARY:International Symposium Sjögren's Disease 2026 : inscrivez-vous et
  soumettez vos abstracts !
DTSTART;VALUE=DATE:20260929
DTEND;VALUE=DATE:20261003
END:VEVENT
END:VCALENDAR
